BEGIN:VCALENDAR
VERSION:2.0
PRODID:-//wp-events-plugin.com//7.2.3.1//EN
TZID:Europe/Stockholm
X-WR-TIMEZONE:Europe/Stockholm
BEGIN:VEVENT
UID:35@afasi.gazonk.se
DTSTART;TZID=Europe/Stockholm:20260428T150000
DTEND;TZID=Europe/Stockholm:20260428T163000
DTSTAMP:20260410T153436Z
URL:https://afasi.gazonk.se/kalender/taby-tibble-ka-2/
SUMMARY:Täby Tibble k:a
DESCRIPTION:Gudrun Sundberg träffar er på Kyrkocafeeret
LOCATION:Tibble Kyrka\, Attundavägen 3\, Täby\, 183 34\, 
GEO:59.443257;18.066252
X-APPLE-STRUCTURED-LOCATION;VALUE=URI;X-ADDRESS=Attundavägen 3\, Täby\, 1
 83 34\, ;X-APPLE-RADIUS=100;X-TITLE=Tibble Kyrka:geo:59.443257,18.066252
END:VEVENT
BEGIN:VTIMEZONE
TZID:Europe/Stockholm
X-LIC-LOCATION:Europe/Stockholm
BEGIN:DAYLIGHT
DTSTART:20260329T030000
TZOFFSETFROM:+0100
TZOFFSETTO:+0200
TZNAME:CEST
END:DAYLIGHT
END:VTIMEZONE
END:VCALENDAR