BEGIN:VCALENDAR
VERSION:2.0
PRODID:-//wp-events-plugin.com//7.2.3.1//EN
TZID:Europe/Stockholm
X-WR-TIMEZONE:Europe/Stockholm
BEGIN:VEVENT
UID:34@afasi.gazonk.se
DTSTART;TZID=Europe/Stockholm:20260522T130000
DTEND;TZID=Europe/Stockholm:20260522T143000
DTSTAMP:20260406T160252Z
URL:https://afasi.gazonk.se/kalender/var-lunch-for-vara-medlemmar/
SUMMARY:Vår lunch för våra medlemmar
DESCRIPTION:\n\n\n\n\n\n\nStyrelsen Bjuder er på Vår lunch för som tidig
 are att ni betar 100 kr unge för samma kostnad betalar föreringen\n\n\nV
 i önskar oss att ni anmäler att ni kommer senast dag 17 maj\n\n
LOCATION:Edsbacka Krog\, Sollentunavägen 220\, Sollentuna\, 191 35 \, 
GEO:59.440552;17.950812
X-APPLE-STRUCTURED-LOCATION;VALUE=URI;X-ADDRESS=Sollentunavägen 220\, Soll
 entuna\, 191 35 \, ;X-APPLE-RADIUS=100;X-TITLE=Edsbacka Krog:geo:59.440552
 ,17.950812
END:VEVENT
BEGIN:VTIMEZONE
TZID:Europe/Stockholm
X-LIC-LOCATION:Europe/Stockholm
BEGIN:DAYLIGHT
DTSTART:20260329T030000
TZOFFSETFROM:+0100
TZOFFSETTO:+0200
TZNAME:CEST
END:DAYLIGHT
END:VTIMEZONE
END:VCALENDAR